BEGIN:VCALENDAR
VERSION:2.0
PRODID:-//Bienvenue à la pension du Labramour d&#039;Othys - ECPv6.6.4.2//NONSGML v1.0//EN
CALSCALE:GREGORIAN
METHOD:PUBLISH
X-ORIGINAL-URL:https://www.dulabramour.com
X-WR-CALDESC:évènements pour Bienvenue à la pension du Labramour d&#039;Othys
REFRESH-INTERVAL;VALUE=DURATION:PT1H
X-Robots-Tag:noindex
X-PUBLISHED-TTL:PT1H
BEGIN:VTIMEZONE
TZID:Europe/Paris
BEGIN:DAYLIGHT
TZOFFSETFROM:+0100
TZOFFSETTO:+0200
TZNAME:CEST
DTSTART:20160327T010000
END:DAYLIGHT
BEGIN:STANDARD
TZOFFSETFROM:+0200
TZOFFSETTO:+0100
TZNAME:CET
DTSTART:20161030T010000
END:STANDARD
END:VTIMEZONE
BEGIN:VEVENT
DTSTART;TZID=Europe/Paris:20160815T110000
DTEND;TZID=Europe/Paris:20160817T200000
DTSTAMP:20260425T124012
CREATED:20150114T083149Z
LAST-MODIFIED:20150114T083149Z
UID:1638-1471258800-1471464000@www.dulabramour.com
SUMMARY:Kitten Adoption Days
DESCRIPTION:At vero eos et accusamus et iusto odio dignissimos ducimus qui blanditiis praesentium voluptatum deleniti atque corrupti quos dolores et quas molestias excepturi sint occaecati cupiditate non provident\, similique sunt in culpa qui officia deserunt mollitia animi\, id est laborum et dolorum fuga. Et harum quidem rerum facilis est et expedita distinctio. Nam libero tempore\, cum soluta nobis est eligendi optio cumque nihil impedit quo minus id quod maxime placeat facere possimus\, omnis voluptas assumenda est\, omnis dolor repellendus. Temporibus autem quibusdam et aut officiis debitis aut rerum necessitatibus saepe eveniet ut et voluptates repudiandae sint et molestiae non recusandae.
URL:https://www.dulabramour.com/event/dogs-meeting-2016-08-15/
LOCATION:North Hill Elementary School\, 1910 East Agency Street\, Burlington\, IA\, IA 52601\, United States
CATEGORIES:Adoption,Exhibition
END:VEVENT
BEGIN:VEVENT
DTSTART;TZID=Europe/Paris:20160815T180000
DTEND;TZID=Europe/Paris:20160815T190000
DTSTAMP:20260425T124012
CREATED:20150114T093332Z
LAST-MODIFIED:20150114T093332Z
UID:1836-1471284000-1471287600@www.dulabramour.com
SUMMARY:Animal Shelter Volunteers Meeting
DESCRIPTION:At vero eos et accusamus et iusto odio dignissimos ducimus qui blanditiis praesentium voluptatum deleniti atque corrupti quos dolores et quas molestias excepturi sint occaecati cupiditate non provident\, similique sunt in culpa qui officia deserunt mollitia animi\, id est laborum et dolorum fuga. Et harum quidem rerum facilis est et expedita distinctio. \nNam libero tempore\, cum soluta nobis est eligendi optio cumque nihil impedit quo minus id quod maxime placeat facere possimus\, omnis voluptas assumenda est\, omnis dolor repellendus. Temporibus autem quibusdam et aut officiis debitis aut rerum necessitatibus saepe eveniet ut et voluptates repudiandae sint et molestiae non recusandae. At vero eos et accusamus et iusto odio dignissimos ducimus qui blanditiis praesentium voluptatum deleniti atque corrupti quos dolores et quas molestias excepturi sint occaecati cupiditate non provident\, similique sunt in culpa qui officia deserunt mollitia animi\, id est laborum et dolorum fuga. Et harum quidem rerum facilis est et expedita distinctio. Nam libero tempore\, cum soluta nobis est eligendi optio cumque nihil impedit quo minus id quod maxime placeat facere possimus\, omnis voluptas assumenda est\, omnis dolor repellendus. Temporibus autem quibusdam et aut officiis debitis aut rerum necessitatibus saepe eveniet ut et voluptates repudiandae sint et molestiae non recusandae.
URL:https://www.dulabramour.com/event/animal-shelter-volunteers-meeting-2016-08-15/
LOCATION:Laney College\, 900 Fallon Street\, Oakland\, CA\, CA 94607\, United States
CATEGORIES:Meeting,Volunteering
END:VEVENT
END:VCALENDAR